BEGIN:VCALENDAR
VERSION:2.0
PRODID:-//wp-events-plugin.com//7.0.0.0//EN
TZID:Europe/London
X-WR-TIMEZONE:Europe/London
BEGIN:VEVENT
UID:17751@sheffieldbuddhistcentre.org
DTSTART;TZID=Europe/London:20250720T183000
DTEND;TZID=Europe/London:20250720T200000
DTSTAMP:20250530T092100Z
URL:https://www.sheffieldbuddhistcentre.org/events/welcome-back-bodhikaya-
 and-sridhara/
SUMMARY:Welcome back Bodhikaya and Sridhara
DESCRIPTION:Welcome Back!\n\nBodhikaya and Sridhara will return to Sheffiel
 d from their ordination retreats. Come along with cards\, cake and a heart
 y welcome home from all the sangha. A precious opportunity to hear more
  from them about their ordinations\, the meaning of their new names and to
  celebrate their Going for Refuge to the Buddha\, Dharma and Sangha. Party
  poppers provided!\n\n&nbsp\;\n\nOpen to everyone who has completed our 12
 -week introductory course.\n\n\n\n\n
CATEGORIES:Special Event
END:VEVENT
BEGIN:VTIMEZONE
TZID:Europe/London
X-LIC-LOCATION:Europe/London
BEGIN:DAYLIGHT
DTSTART:20250330T020000
TZOFFSETFROM:+0000
TZOFFSETTO:+0100
TZNAME:BST
END:DAYLIGHT
END:VTIMEZONE
END:VCALENDAR