BEGIN:VCALENDAR
VERSION:2.0
PRODID:-//wp-events-plugin.com//7.0.0.0//EN
TZID:Europe/London
X-WR-TIMEZONE:Europe/London
BEGIN:VEVENT
UID:17749@sheffieldbuddhistcentre.org
DTSTART;TZID=Europe/London:20250702T183000
DTEND;TZID=Europe/London:20250702T200000
DTSTAMP:20250530T092049Z
URL:https://www.sheffieldbuddhistcentre.org/events/welcome-back-anantakirt
 i-and-moksadevi/
SUMMARY:Welcome back Anantakirti and Moksadevi
DESCRIPTION:Welcome Back!\n\nAnanatakirti and Moksadevi will return to Shef
 field from their ordination retreats.. Come along with cards\, cake and a 
 hearty welcome home from all the sangha. A precious opportunity to hear
  more from them about their ordinations\, the meaning of their new names a
 nd to celebrate their Going for Refuge to the Buddha\, Dharma and Sangha. 
 Party poppers provided!\n\n&nbsp\;\n\nSlightly different start time of 6:3
 0pm for this event.\n\n&nbsp\;\n\n"Open to everyone who has completed our 
 12-week introductory course."\n\n\n\n\n
CATEGORIES:Special Event
END:VEVENT
BEGIN:VTIMEZONE
TZID:Europe/London
X-LIC-LOCATION:Europe/London
BEGIN:DAYLIGHT
DTSTART:20250330T020000
TZOFFSETFROM:+0000
TZOFFSETTO:+0100
TZNAME:BST
END:DAYLIGHT
END:VTIMEZONE
END:VCALENDAR