BEGIN:VCALENDAR
VERSION:2.0
PRODID:-//wp-events-plugin.com//7.0.0.0//EN
TZID:Europe/London
X-WR-TIMEZONE:Europe/London
BEGIN:VEVENT
UID:17767@sheffieldbuddhistcentre.org
DTSTART;TZID=Europe/London:20250826T181500
DTEND;TZID=Europe/London:20250826T213000
DTSTAMP:20250819T081412Z
URL:https://www.sheffieldbuddhistcentre.org/events/the-truth-the-whole-tru
 th-and-nothing-but-the-truth-tbc/
SUMMARY:The Truth\, The Whole Truth and Nothing But the Truth - Paranita
DESCRIPTION:
CATEGORIES:Sangha Night
END:VEVENT
BEGIN:VTIMEZONE
TZID:Europe/London
X-LIC-LOCATION:Europe/London
BEGIN:DAYLIGHT
DTSTART:20250330T020000
TZOFFSETFROM:+0000
TZOFFSETTO:+0100
TZNAME:BST
END:DAYLIGHT
END:VTIMEZONE
END:VCALENDAR