BEGIN:VCALENDAR
VERSION:2.0
PRODID:-//wp-events-plugin.com//7.0.0.0//EN
TZID:Europe/London
X-WR-TIMEZONE:Europe/London
BEGIN:VEVENT
UID:17839@sheffieldbuddhistcentre.org
DTSTART;TZID=Europe/London:20260426T143000
DTEND;TZID=Europe/London:20260426T170000
DTSTAMP:20260311T102213Z
URL:https://www.sheffieldbuddhistcentre.org/events/the-magic-of-mantra/
SUMMARY:The Magic of Mantra
DESCRIPTION:One way of relating to mantra is as the casting of a spell. Whe
 n we chant the names and qualities of a particular Buddha or Bodhisattva f
 igure\, we bring them into a mysterious sense of being. We cast a spell wi
 th our voices\, and Tara\, or Shakyamuni\, or Padmasambhava\, ‘appears
 ’ – in the vibrations of the air\, in the ripples of our breath.\n\nTh
 e root of the word ‘enchantment’ comes from the French verb en chanter
 \, ‘to sing’ or ‘to chant’. By making these figures present\, who 
 are themselves mythic embodiments of qualities of the awakened mind\, mant
 ra has the power to enchant – to connect us with our own potential for r
 adical\, magical transformation.\n\nIn this session\, we’ll explore mant
 ra\, sound and silence as routes into presence and transformation. We’ll
  listen\, we’ll chant\, we’ll explore sound in our bodies. We’ll lea
 rn a mantra in harmony and we’ll chant it together in alternating period
 s of sound and silence. We’ll cast our spell together and we’ll bring 
 the qualities of the awakened mind a little bit closer. \n\nLed by Jo Spe
 nce\n\nOpen to everyone who has completed our 12 week intro course
ATTACH;FMTTYPE=image/jpeg:https://www.sheffieldbuddhistcentre.org/wp-conte
 nt/uploads/2026/03/The-Magic-of-Mantra-1.png
CATEGORIES:Diary Date,Special Event
END:VEVENT
BEGIN:VTIMEZONE
TZID:Europe/London
X-LIC-LOCATION:Europe/London
BEGIN:DAYLIGHT
DTSTART:20260329T020000
TZOFFSETFROM:+0000
TZOFFSETTO:+0100
TZNAME:BST
END:DAYLIGHT
END:VTIMEZONE
END:VCALENDAR