BEGIN:VCALENDAR
VERSION:2.0
PRODID:-//wp-events-plugin.com//7.0.0.0//EN
TZID:Europe/London
X-WR-TIMEZONE:Europe/London
BEGIN:VEVENT
UID:17764@sheffieldbuddhistcentre.org
DTSTART;TZID=Europe/London:20250805T181500
DTEND;TZID=Europe/London:20250805T213000
DTSTAMP:20250722T112103Z
URL:https://www.sheffieldbuddhistcentre.org/events/the-eternal-law-the-pow
 er-of-love-tbc/
SUMMARY:The Eternal Law (The Power of Love) - TBC
DESCRIPTION:
CATEGORIES:Sangha Night
END:VEVENT
BEGIN:VTIMEZONE
TZID:Europe/London
X-LIC-LOCATION:Europe/London
BEGIN:DAYLIGHT
DTSTART:20250330T020000
TZOFFSETFROM:+0000
TZOFFSETTO:+0100
TZNAME:BST
END:DAYLIGHT
END:VTIMEZONE
END:VCALENDAR