BEGIN:VCALENDAR
VERSION:2.0
PRODID:-//wp-events-plugin.com//7.0.0.0//EN
TZID:Europe/London
X-WR-TIMEZONE:Europe/London
BEGIN:VEVENT
UID:17748@sheffieldbuddhistcentre.org
DTSTART;TZID=Europe/London:20250711T180000
DTEND;TZID=Europe/London:20250711T191500
DTSTAMP:20250522T110800Z
URL:https://www.sheffieldbuddhistcentre.org/events/singing-with-the-sangha
 -12/
SUMMARY:Singing with the Sangha
DESCRIPTION:Prajnahridaya &amp\; Joy have recently completed training as so
 ng leaders in the Natural Voice Network tradition\; an embodied\, inclusiv
 e approach that emphasises singing as everyone’s birthright. We will run
  the sessions for 6 weeks again\, from Friday 6 June - Friday 11 July\, 6-
 7.15pm. Each evening is self-contained\, no need to come to them all. Ever
 yone is welcome\, whether you're confident or nervous about singing! We’
 ll be integrating your feedback from last time (thank you all!!) and shari
 ng short\, easy to learn songs\, chants and rounds as a way to connect mor
 e deeply with ourselves\, with Sangha\, and with life.\n\n(Open to everyon
 e who has completed our 12-week intro course)
CATEGORIES:Diary Date
END:VEVENT
BEGIN:VTIMEZONE
TZID:Europe/London
X-LIC-LOCATION:Europe/London
BEGIN:DAYLIGHT
DTSTART:20250330T020000
TZOFFSETFROM:+0000
TZOFFSETTO:+0100
TZNAME:BST
END:DAYLIGHT
END:VTIMEZONE
END:VCALENDAR