BEGIN:VCALENDAR
VERSION:2.0
PRODID:-//wp-events-plugin.com//7.0.0.0//EN
TZID:Europe/London
X-WR-TIMEZONE:Europe/London
BEGIN:VEVENT
UID:17769@sheffieldbuddhistcentre.org
DTSTART;TZID=Europe/London:20250826T160000
DTEND;TZID=Europe/London:20250826T170000
DTSTAMP:20250805T144237Z
URL:https://www.sheffieldbuddhistcentre.org/events/sangharakshita-birthday
 -puja/
SUMMARY:Sangharakshita Birthday Puja
DESCRIPTION:Every year at the centre we hold a special ritual to celebrate 
 the birthday of our founder and teacher Urgyen Sangharakshita. This year w
 ill be an extra special occasion as it marks 100 years since Bhante's birt
 h.\n\nThis will be held in the Great Hall and led by Amoghavamsa.
ATTACH;FMTTYPE=image/jpeg:https://www.sheffieldbuddhistcentre.org/wp-conte
 nt/uploads/2025/08/Bhante-Birthday-Puja-2025.jpg
CATEGORIES:Special Event
END:VEVENT
BEGIN:VTIMEZONE
TZID:Europe/London
X-LIC-LOCATION:Europe/London
BEGIN:DAYLIGHT
DTSTART:20250330T020000
TZOFFSETFROM:+0000
TZOFFSETTO:+0100
TZNAME:BST
END:DAYLIGHT
END:VTIMEZONE
END:VCALENDAR