BEGIN:VCALENDAR
VERSION:2.0
PRODID:-//wp-events-plugin.com//7.0.0.0//EN
TZID:Europe/London
X-WR-TIMEZONE:Europe/London
BEGIN:VEVENT
UID:17833@sheffieldbuddhistcentre.org
DTSTART;TZID=Europe/London:20260406T100000
DTEND;TZID=Europe/London:20260406T160000
DTSTAMP:20260330T145154Z
URL:https://www.sheffieldbuddhistcentre.org/events/sangha-works-day-5/
SUMMARY:Sangha Works Day
DESCRIPTION:A chance to give back to the centre working alongside friends i
 n the Sangha. A mixture of indoor and outdoor jobs available and tasty lun
 ch provided - sign up so we know how many to cook for!
ATTACH;FMTTYPE=image/jpeg:https://www.sheffieldbuddhistcentre.org/wp-conte
 nt/uploads/2026/02/Sangha-Works-Day-21st-April.png
CATEGORIES:Diary Date,Special Event
END:VEVENT
BEGIN:VTIMEZONE
TZID:Europe/London
X-LIC-LOCATION:Europe/London
BEGIN:DAYLIGHT
DTSTART:20260329T020000
TZOFFSETFROM:+0000
TZOFFSETTO:+0100
TZNAME:BST
END:DAYLIGHT
END:VTIMEZONE
END:VCALENDAR