BEGIN:VCALENDAR
VERSION:2.0
PRODID:-//wp-events-plugin.com//7.0.0.0//EN
TZID:Europe/London
X-WR-TIMEZONE:Europe/London
BEGIN:VEVENT
UID:17711@sheffieldbuddhistcentre.org
DTSTART:20250825T100000Z
DTEND:20250825T160000Z
DTSTAMP:20250721T144337Z
URL:https://www.sheffieldbuddhistcentre.org/events/sangha-works-day-4/
SUMMARY:Sangha Works Day
DESCRIPTION:Sangha Works!\n\nCome and spend the day giving back to the Cent
 re with your sangha friends. Jobs available for all skills and abilities. 
 Delicious lunch provided.\n\nPlease let us know if that you're coming by b
 ooking below so we can gauge numbers for cooking lunch\n\n10am-4pm\n'Open 
 to everyone who has completed our 12-week introductory course.'
ATTACH;FMTTYPE=image/jpeg:https://www.sheffieldbuddhistcentre.org/wp-conte
 nt/uploads/2025/03/Sangha-Works-Day-25th-Aug-1.png
CATEGORIES:Diary Date,Special Event
END:VEVENT
END:VCALENDAR