BEGIN:VCALENDAR
VERSION:2.0
PRODID:-//wp-events-plugin.com//7.0.0.0//EN
TZID:Europe/London
X-WR-TIMEZONE:Europe/London
BEGIN:VEVENT
UID:17824@sheffieldbuddhistcentre.org
DTSTART;TZID=Europe/London:20260417T120000
DTEND;TZID=Europe/London:20260419T130000
DTSTAMP:20260408T133656Z
URL:https://www.sheffieldbuddhistcentre.org/events/sangha-lockerbrook-retr
 eat-2/
SUMMARY:Sangha Lockerbrook Retreat
DESCRIPTION:\n\n\nJoin us for a weekend of Dharma practice with friends in 
 the beautiful Peak District.\n\n\nOpen to anyone who has completed the 12 
 week intro course\n\n\nThis retreat is nearing being fully booked (by the 
 time you read this may be fully booked) - just email us at info@sheffieldb
 uddhistcentre.org to be added to the waiting list (as we often get cancell
 ations in the week before a retreat). Many thanks.
ATTACH;FMTTYPE=image/jpeg:https://www.sheffieldbuddhistcentre.org/wp-conte
 nt/uploads/2026/02/Sangha-Lockerbrook-Retreat-6.png
CATEGORIES:Diary Date,Retreat
END:VEVENT
BEGIN:VTIMEZONE
TZID:Europe/London
X-LIC-LOCATION:Europe/London
BEGIN:DAYLIGHT
DTSTART:20260329T020000
TZOFFSETFROM:+0000
TZOFFSETTO:+0100
TZNAME:BST
END:DAYLIGHT
END:VTIMEZONE
END:VCALENDAR