BEGIN:VCALENDAR
VERSION:2.0
PRODID:-//wp-events-plugin.com//7.0.0.0//EN
TZID:Europe/London
X-WR-TIMEZONE:Europe/London
BEGIN:VEVENT
UID:17757@sheffieldbuddhistcentre.org
DTSTART;TZID=Europe/London:20250727T090000
DTEND;TZID=Europe/London:20250727T110000
DTSTAMP:20250620T095022Z
URL:https://www.sheffieldbuddhistcentre.org/events/nothing-happening/
SUMMARY:Special Event: Nothing Happening
DESCRIPTION:Come and do absolutely nothing for 2 hours in the Garden. Aryad
 asa will be there.
ATTACH;FMTTYPE=image/jpeg:https://www.sheffieldbuddhistcentre.org/wp-conte
 nt/uploads/2025/06/Special-Event-Nothing-Happening.jpg
CATEGORIES:Special Event
END:VEVENT
BEGIN:VTIMEZONE
TZID:Europe/London
X-LIC-LOCATION:Europe/London
BEGIN:DAYLIGHT
DTSTART:20250330T020000
TZOFFSETFROM:+0000
TZOFFSETTO:+0100
TZNAME:BST
END:DAYLIGHT
END:VTIMEZONE
END:VCALENDAR