BEGIN:VCALENDAR
VERSION:2.0
PRODID:-//wp-events-plugin.com//7.0.0.0//EN
TZID:Europe/London
X-WR-TIMEZONE:Europe/London
BEGIN:VEVENT
UID:17673@sheffieldbuddhistcentre.org
DTSTART;TZID=Europe/London:20250725T193000
DTEND;TZID=Europe/London:20250725T210000
DTSTAMP:20250717T083313Z
URL:https://www.sheffieldbuddhistcentre.org/events/monthly-puja-and-medita
 tion-with-punyamala-7/
SUMMARY:Monthly Puja and Meditation with Punyamala
DESCRIPTION:Monthly Puja and Meditation with Punyamala
ATTACH;FMTTYPE=image/jpeg:https://www.sheffieldbuddhistcentre.org/wp-conte
 nt/uploads/2025/01/Monthly-Pujas-2025-1.jpg
CATEGORIES:Diary Date,Special Event
END:VEVENT
BEGIN:VTIMEZONE
TZID:Europe/London
X-LIC-LOCATION:Europe/London
BEGIN:DAYLIGHT
DTSTART:20250330T020000
TZOFFSETFROM:+0000
TZOFFSETTO:+0100
TZNAME:BST
END:DAYLIGHT
END:VTIMEZONE
END:VCALENDAR