BEGIN:VCALENDAR
VERSION:2.0
PRODID:-//wp-events-plugin.com//7.0.0.0//EN
TZID:Europe/London
X-WR-TIMEZONE:Europe/London
BEGIN:VEVENT
UID:17719@sheffieldbuddhistcentre.org
DTSTART;TZID=Europe/London:20250704T170000
DTEND;TZID=Europe/London:20250706T150000
DTSTAMP:20250501T151114Z
URL:https://www.sheffieldbuddhistcentre.org/events/mens-weekend-retreat/
SUMMARY:Men's Weekend Retreat - The 4 Noble Truths
DESCRIPTION:Our annual Sheffield Buddhist Centre men's retreat will be happ
 ening at the Buddhist Centre on the theme of the 4 Noble Truths.\n\nThere'
 s an option to stop over at the centre: either in a shared dorm\, single r
 oom\, or camping\; or you can stop overnight in your own home. Please note
 \, if you would like to stop in your own home\, we ask that you still comm
 it to the full retreat program\, so make sure you arrange your diary to fr
 ee you from any other commitments for the weekend.\n\nThe retreat begins o
 n Friday with dinner at 6.00pm. Arrival from 5.00pm. The retreat will end 
 at 3.00pm on Sunday.\n\n&nbsp\;\n\nOpen to everyone who has completed our 
 12-week Introductory course.
CATEGORIES:Retreat
END:VEVENT
BEGIN:VTIMEZONE
TZID:Europe/London
X-LIC-LOCATION:Europe/London
BEGIN:DAYLIGHT
DTSTART:20250330T020000
TZOFFSETFROM:+0000
TZOFFSETTO:+0100
TZNAME:BST
END:DAYLIGHT
END:VTIMEZONE
END:VCALENDAR