BEGIN:VCALENDAR
VERSION:2.0
PRODID:-//wp-events-plugin.com//7.0.0.0//EN
TZID:Europe/London
X-WR-TIMEZONE:Europe/London
BEGIN:VEVENT
UID:17763@sheffieldbuddhistcentre.org
DTSTART;TZID=Europe/London:20250729T181500
DTEND;TZID=Europe/London:20250729T213000
DTSTAMP:20250722T111812Z
URL:https://www.sheffieldbuddhistcentre.org/events/introduction-sex-drugs-
 and-sausage-rolls-aryadasa/
SUMMARY:Introduction: Sex\, Drugs and Sausage Rolls - Aryadasa
DESCRIPTION:
CATEGORIES:Sangha Night
END:VEVENT
BEGIN:VTIMEZONE
TZID:Europe/London
X-LIC-LOCATION:Europe/London
BEGIN:DAYLIGHT
DTSTART:20250330T020000
TZOFFSETFROM:+0000
TZOFFSETTO:+0100
TZNAME:BST
END:DAYLIGHT
END:VTIMEZONE
END:VCALENDAR