BEGIN:VCALENDAR
VERSION:2.0
PRODID:-//wp-events-plugin.com//7.0.0.0//EN
TZID:Europe/London
X-WR-TIMEZONE:Europe/London
BEGIN:VEVENT
UID:17814@sheffieldbuddhistcentre.org
DTSTART;TZID=Europe/London:20260120T181500
DTEND;TZID=Europe/London:20260120T213000
DTSTAMP:20251217T125735Z
URL:https://www.sheffieldbuddhistcentre.org/events/first-encounters-beatin
 g-the-drum-of-the-deathless-paranita/
SUMMARY:First Encounters - Beating the Drum of the Deathless - Paranita
DESCRIPTION:
CATEGORIES:Sangha Night
END:VEVENT
BEGIN:VTIMEZONE
TZID:Europe/London
X-LIC-LOCATION:Europe/London
BEGIN:STANDARD
DTSTART:20251026T010000
TZOFFSETFROM:+0100
TZOFFSETTO:+0000
TZNAME:GMT
END:STANDARD
END:VTIMEZONE
END:VCALENDAR