BEGIN:VCALENDAR
VERSION:2.0
PRODID:-//wp-events-plugin.com//7.0.0.0//EN
TZID:Europe/London
X-WR-TIMEZONE:Europe/London
BEGIN:VEVENT
UID:17761@sheffieldbuddhistcentre.org
DTSTART;TZID=Europe/London:20250827T183000
DTEND;TZID=Europe/London:20250827T203000
DTSTAMP:20250721T090432Z
URL:https://www.sheffieldbuddhistcentre.org/events/farewell-liz-ordination
 -retreat-send-off/
SUMMARY:Farewell Liz - Ordination Retreat Send Off
DESCRIPTION:Ritually say goodbye to Liz A as she goes forth to Spain for he
 r ordination retreat
CATEGORIES:Diary Date,Special Event
END:VEVENT
BEGIN:VTIMEZONE
TZID:Europe/London
X-LIC-LOCATION:Europe/London
BEGIN:DAYLIGHT
DTSTART:20250330T020000
TZOFFSETFROM:+0000
TZOFFSETTO:+0100
TZNAME:BST
END:DAYLIGHT
END:VTIMEZONE
END:VCALENDAR