BEGIN:VCALENDAR
VERSION:2.0
PRODID:-//wp-events-plugin.com//7.0.0.0//EN
TZID:Europe/London
X-WR-TIMEZONE:Europe/London
BEGIN:VEVENT
UID:17755@sheffieldbuddhistcentre.org
DTSTART;TZID=Europe/London:20250713T130000
DTEND;TZID=Europe/London:20250713T170000
DTSTAMP:20250613T083823Z
URL:https://www.sheffieldbuddhistcentre.org/events/dharma-day/
SUMMARY:Dharma Day
DESCRIPTION:Come and join together with others from the Sangha as we celebr
 ate the Buddha's first turning of the Dharma wheel\, where he decided to t
 each the path of liberation. Through hearing Dharma talks\, engaging in st
 udy\, collective ritual and moments of stillness we will contact our own i
 nspiration.\nOpen to everyone who has completed our 12-week introductory c
 ourse.
CATEGORIES:Festival,Special Event
END:VEVENT
BEGIN:VTIMEZONE
TZID:Europe/London
X-LIC-LOCATION:Europe/London
BEGIN:DAYLIGHT
DTSTART:20250330T020000
TZOFFSETFROM:+0000
TZOFFSETTO:+0100
TZNAME:BST
END:DAYLIGHT
END:VTIMEZONE
END:VCALENDAR