BEGIN:VCALENDAR
VERSION:2.0
PRODID:-//wp-events-plugin.com//7.0.0.0//EN
TZID:Europe/London
X-WR-TIMEZONE:Europe/London
BEGIN:VEVENT
UID:17810@sheffieldbuddhistcentre.org
DTSTART;TZID=Europe/London:20260111T160000
DTEND;TZID=Europe/London:20260111T180000
DTSTAMP:20260107T125750Z
URL:https://www.sheffieldbuddhistcentre.org/events/dance/
SUMMARY:Dance!
DESCRIPTION:\n\n\n\nDance in the Buddhist Centre!\n\n\n\n\n\n\nA fundraisin
 g event for Guhyaloka\n\n\n\n\nhosted by Bobby\, Saffron and Prajnahridaya
 \n\n\n\n\nEcstatic dance teacher Reya returns to take us on a magic carpet
  ride of ambient\, euphoric and soul-stirring wild beats. Silent disco sty
 le!\n\n\n\n\nBook below!\n\n\n\n\nBooking is essential as there are limite
 d headsets\n\n\nOpen to anyone who has completed our 12 week introductory 
 course\n\n\n\n\n
ATTACH;FMTTYPE=image/jpeg:https://www.sheffieldbuddhistcentre.org/wp-conte
 nt/uploads/2025/12/Dance-3.png
CATEGORIES:Special Event
END:VEVENT
BEGIN:VTIMEZONE
TZID:Europe/London
X-LIC-LOCATION:Europe/London
BEGIN:STANDARD
DTSTART:20251026T010000
TZOFFSETFROM:+0100
TZOFFSETTO:+0000
TZNAME:GMT
END:STANDARD
END:VTIMEZONE
END:VCALENDAR