BEGIN:VCALENDAR
VERSION:2.0
PRODID:-//wp-events-plugin.com//7.0.0.0//EN
TZID:Europe/London
X-WR-TIMEZONE:Europe/London
BEGIN:VEVENT
UID:17733@sheffieldbuddhistcentre.org
DTSTART;TZID=Europe/London:20250801T170000
DTEND;TZID=Europe/London:20250804T110000
DTSTAMP:20250710T083041Z
URL:https://www.sheffieldbuddhistcentre.org/events/adhisthana-sangha-retre
 at/
SUMMARY:Adhisthana Sangha Retreat
DESCRIPTION:Bathing in the Golden Light of the Generous Buddha\n\n&nbsp\;\n
 \nJoin us for a long weekend of Dharma practice in the beautiful surroundi
 ngs of Herefordshire\, where we will be basking in the warm abundance of R
 atnasambhava!\n\n&nbsp\;\n\nOpen to everyone who has completed our 12 week
  introductory course.
CATEGORIES:Retreat
END:VEVENT
BEGIN:VTIMEZONE
TZID:Europe/London
X-LIC-LOCATION:Europe/London
BEGIN:DAYLIGHT
DTSTART:20250330T020000
TZOFFSETFROM:+0000
TZOFFSETTO:+0100
TZNAME:BST
END:DAYLIGHT
END:VTIMEZONE
END:VCALENDAR