BEGIN:VCALENDAR
VERSION:2.0
PRODID:-//wp-events-plugin.com//7.0.0.0//EN
TZID:Europe/London
X-WR-TIMEZONE:Europe/London
BEGIN:VEVENT
UID:17760@sheffieldbuddhistcentre.org
DTSTART;TZID=Europe/London:20250826T071500
DTEND;TZID=Europe/London:20250826T083000
DTSTAMP:20250728T081613Z
URL:https://www.sheffieldbuddhistcentre.org/events/a-century-of-study-a-go
 lden-thread-through-the-collected-works/
SUMMARY:A century of study - A golden thread through the collected works
DESCRIPTION:Achara\, Aryadasa and team offer weekly study sessions in the l
 ibrary on Tuesday mornings.\n\nOn Tuesday 26th August 2025\, to celebrate 
 one hundred years since Sangharakshita's birth\, a new weekly drop in stu
 dy session will be launched. It marks a commitment made by the trustees of
  the Sheffield Buddhist Centre for Sangharakshita's teachings to be studie
 d every week for the next 100 years.\n\nA weekly drop-in session delving d
 eep into Sangharakshtia's complete works following a golden thread through
  the Concordance.\n\nOpen to Order members &amp\; Mitras\nIn the library.
ATTACH;FMTTYPE=image/jpeg:https://www.sheffieldbuddhistcentre.org/wp-conte
 nt/uploads/2025/07/Untitled-design-1.jpg
CATEGORIES:Special Event
END:VEVENT
BEGIN:VTIMEZONE
TZID:Europe/London
X-LIC-LOCATION:Europe/London
BEGIN:DAYLIGHT
DTSTART:20250330T020000
TZOFFSETFROM:+0000
TZOFFSETTO:+0100
TZNAME:BST
END:DAYLIGHT
END:VTIMEZONE
END:VCALENDAR